BEGIN:VCALENDAR
VERSION:2.0
X-WR-CALNAME: Upcoming Performances
PRODID:GIGPRESS 2.0 WORDPRESS PLUGIN
CALSCALE:GREGORIAN
X-WR-TIMEZONE:Etc/GMT
METHOD:PUBLISH
BEGIN:VTIMEZONE
TZID:GMT
BEGIN:STANDARD
DTSTART:20071028T010000
TZOFFSETTO:+0000
TZOFFSETFROM:+0000
END:STANDARD
END:VTIMEZONE
BEGIN:VEVENT
SUMMARY:Pete McCann Quartet at Brush Culture
DESCRIPTION:: New York Tri-State Area. 
LOCATION:Brush Culture\, 482 Cedar Lane\, Teaneck\, US
UID:20260424T230000Z-667-nygeekgirls@aol.com
URL:https://robertajazz.com/playing-with-pete-mccann-quartet-on-friday-april-24th-2026-in-teaneck/
DTSTART;VALUE=DATE-TIME;TZID=GMT:20260424T230000Z
DTEND;VALUE=DATE-TIME;TZID=GMT:20260424T230000Z
DTSTAMP:20260421T105428Z
END:VEVENT
BEGIN:VEVENT
SUMMARY:John H. Smith Organ Trio at Portside Lounge
DESCRIPTION:: New York Tri-State Area. Notes: <br>John H. Smith - guitar <br>  Roberta Piket - organ <br>  Camille Gainer - drums <br> 
LOCATION:Portside Lounge\, 3777 Main St.\, Bridgeport\, US
UID:20260425T230000Z-673-nygeekgirls@aol.com
URL:https://robertajazz.com/playing-with-john-h-smith-organ-trio-in-bridgeport-ct-on-saturday-april-25th-2026/
DTSTART;VALUE=DATE-TIME;TZID=GMT:20260425T230000Z
DTEND;VALUE=DATE-TIME;TZID=GMT:20260425T230000Z
DTSTAMP:20260421T105428Z
END:VEVENT
BEGIN:VEVENT
SUMMARY:Lance Bryant and SHOUT! at New Jersey Performing Arts Center
DESCRIPTION:: New York Tri-State Area. Notes: <Br>   Lance Bryant and Shout! with Special Guest Stephon Harris  <Br>   International Jazz Day Broadcast <br> 
LOCATION:New Jersey Performing Arts Center\, 1 Center St\, Newark\, US
UID:20260426T220000Z-671-nygeekgirls@aol.com
URL:https://robertajazz.com/playing-with-lance-bryant-and-shout-at-new-jersey-performing-arts-center-in-newark-on-sunday-april-26th-2026/
DTSTART;VALUE=DATE-TIME;TZID=GMT:20260426T220000Z
DTEND;VALUE=DATE-TIME;TZID=GMT:20260426T220000Z
DTSTAMP:20260421T105428Z
END:VEVENT
BEGIN:VEVENT
SUMMARY:Eddie Allen Quartet at Jazz Genius
DESCRIPTION:: New York Tri-State Area. Notes: <Br> 3 nights - 2 sets each night -  7pm to 10pm <br>  Eddie Allen - trumpet &amp\; flugelhorn <br>   Roberta Piket - piano <br>   Gregory Jones - acoustic bass <br>   EJ Strickland - drums <br> 
LOCATION:Jazz Genius\, 151 Essex St.\, New York\, US
UID:20260430T230000Z-669-nygeekgirls@aol.com
URL:https://robertajazz.com/playing-with-eddie-allen-quartet-in-new-york-april-30th-through-may-2nd/
DTSTART;VALUE=DATE-TIME;TZID=GMT:20260430T230000Z
DTEND;VALUE=DATE-TIME;TZID=GMT:20260502T230000Z
DTSTAMP:20260421T105428Z
END:VEVENT
BEGIN:VEVENT
SUMMARY:Roberta Piket Quartet at The Django
DESCRIPTION:: New York Tri-State Area. Notes: <Br>   Eddie Allen - trumpet <br>   Roberta Piket - piano\, vocals <br>   Hilliard Greene - bass <br>   Billy Mintz - drums <br> 
LOCATION:The Django\, 2 Avenue of the Americas\, New York\, US
UID:20260503T203000Z-661-nygeekgirls@aol.com
URL:https://robertajazz.com/roberta-piket-quartet-on-sunday-may-3rd-2026-at-the-django-new-york/
DTSTART;VALUE=DATE-TIME;TZID=GMT:20260503T203000Z
DTEND;VALUE=DATE-TIME;TZID=GMT:20260503T203000Z
DTSTAMP:20260421T105428Z
END:VEVENT
BEGIN:VEVENT
SUMMARY:Roberta Piket Organ Trio at Sunset Music Series
DESCRIPTION:: New York Tri-State Area. Notes: <Br><b> Free outdoor concert- 6pm - 8pm <br>   </b>  Roberta Piket – organ <br>   Bob DeVos – guitar <br>   Steve Johns – Drums <br> 
LOCATION:Sunset Music Series\, Fountain at Riverwalk Place\, West New York\, US
UID:20260618T220000Z-668-nygeekgirls@aol.com
URL:https://robertajazz.com/roberta-piket-organ-trio-on-thursday-june-18th-2026-in-west-new-york/
DTSTART;VALUE=DATE-TIME;TZID=GMT:20260618T220000Z
DTEND;VALUE=DATE-TIME;TZID=GMT:20260618T220000Z
DTSTAMP:20260421T105428Z
END:VEVENT
BEGIN:VEVENT
SUMMARY:Bob DeVos Organ Quarter at Jazz at the Post - Westport VFW
DESCRIPTION:: New York Tri-State Area. Notes: <Br>   Bob DeVos - guitar <br>   Greg Wall - tenor saxophone <br>   Roberta Piket- organ <br>   Steve Johns - drums <br> 
LOCATION:Jazz at the Post - Westport VFW\, 465 Riverside Avenue\, Westport\, US
UID:20260813T233000Z-670-nygeekgirls@aol.com
URL:https://robertajazz.com/playing-with-bob-devos-organ-quarter-in-westport-on-thursday-august-13th-2026/
DTSTART;VALUE=DATE-TIME;TZID=GMT:20260813T233000Z
DTEND;VALUE=DATE-TIME;TZID=GMT:20260813T233000Z
DTSTAMP:20260421T105428Z
END:VEVENT
END:VCALENDAR