BEGIN:VCALENDAR
VERSION:2.0
PRODID:GIGPRESS 2.0 WORDPRESS PLUGIN
CALSCALE:GREGORIAN
X-WR-TIMEZONE:Etc/GMT
METHOD:PUBLISH
BEGIN:VTIMEZONE
TZID:GMT
BEGIN:STANDARD
DTSTART:20071028T010000
TZOFFSETTO:+0000
TZOFFSETFROM:+0000
END:STANDARD
END:VTIMEZONE
BEGIN:VEVENT
SUMMARY:John H. Smith Organ Trio at Portside Lounge
DESCRIPTION:: New York Tri-State Area. Notes: <br>John H. Smith - guitar <br>  Roberta Piket - organ <br>  Camille Gainer - drums <br> 
LOCATION:Portside Lounge\, 3777 Main St.\, Bridgeport\, US
UID:20260425T230000Z-673-nygeekgirls@aol.com
URL:https://robertajazz.com/playing-with-john-h-smith-organ-trio-in-bridgeport-ct-on-saturday-april-25th-2026/
DTSTART;VALUE=DATE-TIME;TZID=GMT:20260425T230000Z
DTEND;VALUE=DATE-TIME;TZID=GMT:20260425T230000Z
DTSTAMP:20260421T054352Z
END:VEVENT
END:VCALENDAR