BEGIN:VCALENDAR
VERSION:2.0
PRODID:-//Roberta Piket | Pianist, Organist, Composer, Vocalist, Teacher - ECPv6.15.14//NONSGML v1.0//EN
CALSCALE:GREGORIAN
METHOD:PUBLISH
X-ORIGINAL-URL:https://robertajazz.com
X-WR-CALDESC:Events for Roberta Piket | Pianist, Organist, Composer, Vocalist, Teacher
REFRESH-INTERVAL;VALUE=DURATION:PT1H
X-Robots-Tag:noindex
X-PUBLISHED-TTL:PT1H
BEGIN:VTIMEZONE
TZID:America/New_York
BEGIN:DAYLIGHT
TZOFFSETFROM:-0500
TZOFFSETTO:-0400
TZNAME:EDT
DTSTART:20240310T070000
END:DAYLIGHT
BEGIN:STANDARD
TZOFFSETFROM:-0400
TZOFFSETTO:-0500
TZNAME:EST
DTSTART:20241103T060000
END:STANDARD
BEGIN:DAYLIGHT
TZOFFSETFROM:-0500
TZOFFSETTO:-0400
TZNAME:EDT
DTSTART:20250309T070000
END:DAYLIGHT
BEGIN:STANDARD
TZOFFSETFROM:-0400
TZOFFSETTO:-0500
TZNAME:EST
DTSTART:20251102T060000
END:STANDARD
BEGIN:DAYLIGHT
TZOFFSETFROM:-0500
TZOFFSETTO:-0400
TZNAME:EDT
DTSTART:20260308T070000
END:DAYLIGHT
BEGIN:STANDARD
TZOFFSETFROM:-0400
TZOFFSETTO:-0500
TZNAME:EST
DTSTART:20261101T060000
END:STANDARD
END:VTIMEZONE
BEGIN:VEVENT
DTSTART;TZID=America/New_York:20250912T200000
DTEND;TZID=America/New_York:20250912T230000
DTSTAMP:20260421T075721
CREATED:20250907T204058Z
LAST-MODIFIED:20250907T213939Z
UID:8280-1757707200-1757718000@robertajazz.com
SUMMARY:Pete McCann Quartet
DESCRIPTION:Pete McCann – Guitar  \nRoberta Piket –  Plano  \nDean Johnson – Bass  \nTim Horner – Drums
URL:https://robertajazz.com/event/pete-mccann-quartet/
LOCATION:Brush Culture\, 482 Cedar Lane\, Teaneck\, NJ\, 07666\, US
END:VEVENT
BEGIN:VEVENT
DTSTART;TZID=America/New_York:20250905T193000
DTEND;TZID=America/New_York:20250905T193000
DTSTAMP:20260421T075721
CREATED:20250907T204058Z
LAST-MODIFIED:20250907T204058Z
UID:8281-1757100600-1757100600@robertajazz.com
SUMMARY:Victor Jones Orchestrio
DESCRIPTION:
URL:https://robertajazz.com/event/victor-jones-orchestrio-2/
LOCATION:Montclair Brewery\, 101 Walnut St\, Montclair\, NJ\, US
END:VEVENT
BEGIN:VEVENT
DTSTART;TZID=America/New_York:20250904T171500
DTEND;TZID=America/New_York:20250904T171500
DTSTAMP:20260421T075721
CREATED:20250907T204058Z
LAST-MODIFIED:20250907T204058Z
UID:8282-1757006100-1757006100@robertajazz.com
SUMMARY:Il Sole All-Stars
DESCRIPTION:Jerry Weldon – tenor saxophone   Roberta Piket – organ   \nVictor Jones – drums   \n5:15pm – 8:15pm
URL:https://robertajazz.com/event/il-sole-all-stars/
LOCATION:IL SOLE\, 233 Dyckman St.\, New York\, NY\, 10034\, US
END:VEVENT
BEGIN:VEVENT
DTSTART;TZID=America/New_York:20250830T200000
DTEND;TZID=America/New_York:20250830T200000
DTSTAMP:20260421T075721
CREATED:20250907T204113Z
LAST-MODIFIED:20250907T204113Z
UID:8283-1756584000-1756584000@robertajazz.com
SUMMARY:Roberta Piket Quintet
DESCRIPTION:Roberta Piket – piano and compositions  \nLance Bryant – saxophones and flute  \nPete McCann –  guitar  \nDavid Kingsnorth – bass  \n Billy Mintz – drums   \nSets at 8 and 9:30
URL:https://robertajazz.com/event/roberta-piket-quintet-2/
LOCATION:Bar Bayeux\, 1066 Nostrand Avenue\, Brooklyn\, NY\, 11225\, US
END:VEVENT
BEGIN:VEVENT
DTSTART;TZID=America/New_York:20250822T230000
DTEND;TZID=America/New_York:20250822T230000
DTSTAMP:20260421T075721
CREATED:20250907T204113Z
LAST-MODIFIED:20250907T204113Z
UID:8284-1755903600-1755903600@robertajazz.com
SUMMARY:Carol & the Morganix
DESCRIPTION:Carol Morgan – trumpet  Idit Shner – saxophones  \nRoberta Piket- organ  \nBilly Mintz- drums    \n11pm – 2am
URL:https://robertajazz.com/event/carol-the-morganix-3/
LOCATION:Cellar Dog\, 75 Christopher Street\, New York\, NY\, US
END:VEVENT
BEGIN:VEVENT
DTSTART;TZID=America/New_York:20250817T180000
DTEND;TZID=America/New_York:20250817T180000
DTSTAMP:20260421T075721
CREATED:20250907T204114Z
LAST-MODIFIED:20250907T204114Z
UID:8285-1755453600-1755453600@robertajazz.com
SUMMARY:Roberta Piket Quartet
DESCRIPTION:6pm to 8:30pm  Roberta Piket – piano and vocals  \nEddie Allen – trumpet  \nYoshi Waki – bass\n  Billy Mintz – drums
URL:https://robertajazz.com/event/roberta-piket-quartet/
LOCATION:The Django\, 2 Avenue of The Americas - The Roxy Hotel\, Cellar Level\, New York\, NY\, 10013\, US
END:VEVENT
BEGIN:VEVENT
DTSTART;TZID=America/New_York:20250801T200000
DTEND;TZID=America/New_York:20250801T200000
DTSTAMP:20260421T075721
CREATED:20250907T204114Z
LAST-MODIFIED:20250907T204114Z
UID:8286-1754078400-1754078400@robertajazz.com
SUMMARY:Billy Mintz Quintet
DESCRIPTION:Eddie Allen – trumpet \nAdam Kolker – saxophones and bass clarinet \nRoberta Piket – piano \nJohn Hebert – bass\nBilly Mintz – drums and compositions
URL:https://robertajazz.com/event/billy-mintz-quintet-5/
LOCATION:Bar Bayeux\, 1066 Nostrand Avenue\, Brooklyn\, NY\, 11225\, US
END:VEVENT
BEGIN:VEVENT
DTSTART;TZID=America/New_York:20250731T190000
DTEND;TZID=America/New_York:20250731T190000
DTSTAMP:20260421T075721
CREATED:20250907T204114Z
LAST-MODIFIED:20250907T204114Z
UID:8287-1753988400-1753988400@robertajazz.com
SUMMARY:Lance Bryant Quartet
DESCRIPTION:7pm – 10pm
URL:https://robertajazz.com/event/lance-bryant-quartet/
LOCATION:Tavern on George\, 361 George St.\, New Brunswick\, NJ\, 08901\, US
END:VEVENT
BEGIN:VEVENT
DTSTART;TZID=America/New_York:20250726T210000
DTEND;TZID=America/New_York:20250726T210000
DTSTAMP:20260421T075721
CREATED:20250907T204239Z
LAST-MODIFIED:20250907T204239Z
UID:8288-1753563600-1753563600@robertajazz.com
SUMMARY:Billy Mintz Quintet
DESCRIPTION:Eddie Allen – trumpet \nAdam Kolker – saxophones and bass clarinet \nRoberta Piket – piano \nJohn Hebert – bass\nBilly Mintz – drums and compositions
URL:https://robertajazz.com/event/billy-mintz-quintet-6/
LOCATION:Ornithology\, 6 Suydam St.\, Brooklyn\, NY\, US
END:VEVENT
BEGIN:VEVENT
DTSTART;TZID=America/New_York:20250719T230000
DTEND;TZID=America/New_York:20250719T230000
DTSTAMP:20260421T075721
CREATED:20250907T204239Z
LAST-MODIFIED:20250907T204239Z
UID:8289-1752966000-1752966000@robertajazz.com
SUMMARY:Carol Morgan Quartet
DESCRIPTION:Carol Morgan – trumpet  \nRoberta Piket – piano  \nCharlie Himme – bassl  \nBilly Mintz – drums
URL:https://robertajazz.com/event/carol-morgan-quartet/
LOCATION:Cellar Dog\, 75 Christopher Street\, New York\, NY\, US
END:VEVENT
BEGIN:VEVENT
DTSTART;TZID=America/New_York:20250718T200000
DTEND;TZID=America/New_York:20250718T200000
DTSTAMP:20260421T075721
CREATED:20250907T204239Z
LAST-MODIFIED:20250907T204239Z
UID:8290-1752868800-1752868800@robertajazz.com
SUMMARY:Lance Bryant and SHOUT!
DESCRIPTION:
URL:https://robertajazz.com/event/lance-bryant-and-shout/
LOCATION:Brush Culture\, 482 Cedar Lane\, Teaneck\, NJ\, 07666\, US
END:VEVENT
BEGIN:VEVENT
DTSTART;TZID=America/New_York:20250717T193000
DTEND;TZID=America/New_York:20250717T193000
DTSTAMP:20260421T075721
CREATED:20250907T204239Z
LAST-MODIFIED:20250907T204239Z
UID:8291-1752780600-1752780600@robertajazz.com
SUMMARY:The Waldron Ricks Group
DESCRIPTION:Waldron Ricks – trumpet \nTommy Morimoto – tenor saxophone \nSanti Debriano – bass \nEthan Kogan – drums
URL:https://robertajazz.com/event/the-waldron-ricks-group/
LOCATION:Smalls Jazz Club\, 183 West 10th Street\, New York\, NY\, US
END:VEVENT
BEGIN:VEVENT
DTSTART;TZID=America/New_York:20250712T180000
DTEND;TZID=America/New_York:20250712T180000
DTSTAMP:20260421T075721
CREATED:20250907T204239Z
LAST-MODIFIED:20250907T204239Z
UID:8292-1752343200-1752343200@robertajazz.com
SUMMARY:Roberta Piket Trio
DESCRIPTION:Roberta Piket – piano\, vocals\, compositions  \nAndy McKee -bass  \nBilly Mintz – drums
URL:https://robertajazz.com/event/roberta-piket-trio-4/
LOCATION:Mezzrow\, 163 W. 10th St.\, New York\, New York\, US
END:VEVENT
BEGIN:VEVENT
DTSTART;TZID=America/New_York:20250711T180000
DTEND;TZID=America/New_York:20250711T180000
DTSTAMP:20260421T075721
CREATED:20250907T204313Z
LAST-MODIFIED:20250907T204313Z
UID:8293-1752256800-1752256800@robertajazz.com
SUMMARY:Roberta Piket Trio
DESCRIPTION:Roberta Piket – piano\, vocals\, compositions  \nAndy McKee -bass  \nBilly Mintz – drums
URL:https://robertajazz.com/event/roberta-piket-trio-5/
LOCATION:Mezzrow\, 163 W. 10th St.\, New York\, New York\, US
END:VEVENT
BEGIN:VEVENT
DTSTART;TZID=America/New_York:20250708T180000
DTEND;TZID=America/New_York:20250708T180000
DTSTAMP:20260421T075721
CREATED:20250907T204313Z
LAST-MODIFIED:20250907T204313Z
UID:8294-1751997600-1751997600@robertajazz.com
SUMMARY:Roberta Piket - Solo Piano
DESCRIPTION:McIver Piano Jazz Series\nA solo piano concert in the Hamptons\n6pm – 8pm
URL:https://robertajazz.com/event/roberta-piket-solo-piano/
LOCATION:Hamptons Jazz Fest\, LTV Studios - 75 Industrial Rd.\, Wainscott\, NY\, US
END:VEVENT
BEGIN:VEVENT
DTSTART;TZID=America/New_York:20250704T190000
DTEND;TZID=America/New_York:20250704T190000
DTSTAMP:20260421T075721
CREATED:20250907T204313Z
LAST-MODIFIED:20250907T204313Z
UID:8295-1751655600-1751655600@robertajazz.com
SUMMARY:Tommy Morimoto Organ Quartet
DESCRIPTION:Tommy Morimoto – tenor saxophone  \nRoberta Piket – organ  \nRodney Jones – guitar  \nRonnie Burrage – drums    \nNo cover .\n \n7pm – 11pm
URL:https://robertajazz.com/event/tommy-morimoto-organ-quartet/
LOCATION:Hamilton’s Bar & Kitchen\, 3570 Broadway\, Harlem\, New York\, NY\, 10031\, US
END:VEVENT
BEGIN:VEVENT
DTSTART;TZID=America/New_York:20250703T194500
DTEND;TZID=America/New_York:20250703T194500
DTSTAMP:20260421T075721
CREATED:20250907T204313Z
LAST-MODIFIED:20250907T204313Z
UID:8296-1751571900-1751571900@robertajazz.com
SUMMARY:Janetza Miranda Band
DESCRIPTION:Janetza Miranda – vocals\nRoberta Piket – piano \nYoshi Waki – bass \nVictor Jones – drums and trumpet  \nOne set only.
URL:https://robertajazz.com/event/janetza-miranda-band/
LOCATION:LINCOLN PARK COAST CULTURAL DISTRICT JAZZY SOUL SERIES\, Romana European Tapas Lounge - 37 Edison Place\, Newark\, NJ\, 07102\, US
END:VEVENT
BEGIN:VEVENT
DTSTART;TZID=America/New_York:20250627T174500
DTEND;TZID=America/New_York:20250627T174500
DTSTAMP:20260421T075721
CREATED:20250907T204313Z
LAST-MODIFIED:20250907T204313Z
UID:8297-1751046300-1751046300@robertajazz.com
SUMMARY:Roberta Piket - Solo Piano
DESCRIPTION:Sets at 5:45pm and 7:45pm \nHatch Recital Hall\, Eastman School of Music
URL:https://robertajazz.com/event/roberta-piket-solo-piano-2/
LOCATION:Rochester International Jazz Festival\, Rochester\, NY\, US
END:VEVENT
BEGIN:VEVENT
DTSTART;TZID=America/New_York:20250621T200000
DTEND;TZID=America/New_York:20250621T200000
DTSTAMP:20260421T075721
CREATED:20250907T204323Z
LAST-MODIFIED:20250907T204323Z
UID:8298-1750536000-1750536000@robertajazz.com
SUMMARY:Roberta Piket - Billy Mintz Organ Duo
DESCRIPTION:Roberta Piket – Organ and vocals   Billy Mintz – Drums
URL:https://robertajazz.com/event/roberta-piket-billy-mintz-organ-duo/
LOCATION:The Velvet Vault Speakeasy\, 40-12 214th Pl\, Bayside\, Queens\, NY\, 11361\, US
END:VEVENT
BEGIN:VEVENT
DTSTART;TZID=America/New_York:20250619T193000
DTEND;TZID=America/New_York:20250619T193000
DTSTAMP:20260421T075721
CREATED:20250907T204323Z
LAST-MODIFIED:20250907T204323Z
UID:8299-1750361400-1750361400@robertajazz.com
SUMMARY:Frank London
DESCRIPTION:Frank London – trumpet  \nGreg Wall – saxophone  \nRoberta Piket – piano  \nHilliard Greene – bass \nNewman Taylor-Baker – drums
URL:https://robertajazz.com/event/frank-london/
LOCATION:Westport VFW Post\, 465 Riverside Avenue\, Westport\, CT\, US
END:VEVENT
BEGIN:VEVENT
DTSTART;TZID=America/New_York:20250612T173000
DTEND;TZID=America/New_York:20250612T173000
DTSTAMP:20260421T075721
CREATED:20250907T204323Z
LAST-MODIFIED:20250907T204323Z
UID:8300-1749749400-1749749400@robertajazz.com
SUMMARY:Victor Jones Orchestrio
DESCRIPTION:Victor Jones – Drums  Roberta Piket – piano  \nYoshi Waki – Bass   \nSpecial guest: Janetza Miranda – vocals
URL:https://robertajazz.com/event/victor-jones-orchestrio-3/
LOCATION:IL SOLE\, 233 Dyckman St.\, New York\, NY\, 10034\, US
END:VEVENT
BEGIN:VEVENT
DTSTART;TZID=America/New_York:20250504T120000
DTEND;TZID=America/New_York:20250504T120000
DTSTAMP:20260421T075721
CREATED:20250907T204324Z
LAST-MODIFIED:20250907T204324Z
UID:8301-1746360000-1746360000@robertajazz.com
SUMMARY:Gene Ghee Organ Trio
DESCRIPTION:
URL:https://robertajazz.com/event/gene-ghee-organ-trio/
LOCATION:Harlem Tavern\, 2153 Frederick Douglass Blvd\, Harlem\, NY\, US
END:VEVENT
BEGIN:VEVENT
DTSTART;TZID=America/New_York:20250430T200000
DTEND;TZID=America/New_York:20250430T200000
DTSTAMP:20260421T075721
CREATED:20250907T204324Z
LAST-MODIFIED:20250907T204324Z
UID:8302-1746043200-1746043200@robertajazz.com
SUMMARY:Eddie Allen Quintet
DESCRIPTION:Jazz Arts ProjectEddie Allen – trumpet \nJerry Weldon – tenor saxophone \nRoberta Piket – piano \nKenny Davis – bass \nJerome Jennings – drums
URL:https://robertajazz.com/event/eddie-allen-quintet/
LOCATION:Triumph Brewery\, 1 Bridge Avenue\, Red Bank\, NJ\, 07701\, US
END:VEVENT
BEGIN:VEVENT
DTSTART;TZID=America/New_York:20250426T190000
DTEND;TZID=America/New_York:20250426T190000
DTSTAMP:20260421T075721
CREATED:20250907T204328Z
LAST-MODIFIED:20250907T204328Z
UID:8303-1745694000-1745694000@robertajazz.com
SUMMARY:Mike Rabinowitz Group
DESCRIPTION:Mike Rabinowitz- bassoon  Roberta Piket – piano  \nMike Karn – bass  \nBilly Mintz – drums
URL:https://robertajazz.com/event/mike-rabinowitz-group/
LOCATION:Brush Culture\, 482 Cedar Lane\, Teaneck\, NJ\, 07666\, US
END:VEVENT
BEGIN:VEVENT
DTSTART;TZID=America/New_York:20250425T190000
DTEND;TZID=America/New_York:20250425T190000
DTSTAMP:20260421T075721
CREATED:20250907T204328Z
LAST-MODIFIED:20250907T204328Z
UID:8304-1745607600-1745607600@robertajazz.com
SUMMARY:Roberta Piket Quintet
DESCRIPTION:Jed Levy saxophones\, flute  Pete McCann – guitar  \nRoberta Piket – piano\, compositions  \nDavid Kingsnorth- bass  \nBilly Mintz – drums
URL:https://robertajazz.com/event/roberta-piket-quintet-3/
LOCATION:Brush Culture\, 482 Cedar Lane\, Teaneck\, NJ\, 07666\, US
END:VEVENT
BEGIN:VEVENT
DTSTART;TZID=America/New_York:20250424T190000
DTEND;TZID=America/New_York:20250424T190000
DTSTAMP:20260421T075721
CREATED:20250907T204328Z
LAST-MODIFIED:20250907T204328Z
UID:8305-1745521200-1745521200@robertajazz.com
SUMMARY:John Lang Nonet
DESCRIPTION:Near the Larchmont Train Station7 to 10 pm
URL:https://robertajazz.com/event/john-lang-nonet/
LOCATION:Locals 10538\, 2128 US-1\, Larchmont\, NY\, 10538\, US
END:VEVENT
BEGIN:VEVENT
DTSTART;TZID=America/New_York:20250422T193000
DTEND;TZID=America/New_York:20250422T193000
DTSTAMP:20260421T075721
CREATED:20250907T204328Z
LAST-MODIFIED:20250907T204328Z
UID:8306-1745350200-1745350200@robertajazz.com
SUMMARY:Roberta Piket Quintet
DESCRIPTION:2 Sets starting at 7:30pm\n Roberta Piket – piano\, compositions  \nLance Bryant – saxophones\, bass clarinet\, flute  \nPete McCann- guitar  \nJohn Hebert – bass  \nBilly Mintz – drums
URL:https://robertajazz.com/event/roberta-piket-quintet-4/
LOCATION:Smalls Jazz Club\, 183 West 10th Street\, New York\, NY\, US
END:VEVENT
BEGIN:VEVENT
DTSTART;TZID=America/New_York:20250418T190000
DTEND;TZID=America/New_York:20250418T190000
DTSTAMP:20260421T075721
CREATED:20250907T204329Z
LAST-MODIFIED:20250907T204329Z
UID:8307-1745002800-1745002800@robertajazz.com
SUMMARY:Tommy Morimoto Organ Quartet
DESCRIPTION:Tommy Morimoto – tenor saxophone Roberta Piket – organ \nEd Cherry – guitar \nTommy Campbell – drums
URL:https://robertajazz.com/event/tommy-morimoto-organ-quartet-2/
LOCATION:Hamilton’s Bar & Kitchen\, 3570 Broadway\, Harlem\, New York\, NY\, 10031\, US
END:VEVENT
BEGIN:VEVENT
DTSTART;TZID=America/New_York:20250411T200000
DTEND;TZID=America/New_York:20250411T200000
DTSTAMP:20260421T075721
CREATED:20250907T204344Z
LAST-MODIFIED:20250907T204344Z
UID:8308-1744401600-1744401600@robertajazz.com
SUMMARY:Rob Middleton Organ Quartet
DESCRIPTION:
URL:https://robertajazz.com/event/rob-middleton-organ-quartet/
LOCATION:Rock n’ Joes\, Caldwell\, NJ\, US
END:VEVENT
BEGIN:VEVENT
DTSTART;TZID=America/New_York:20250329T060000
DTEND;TZID=America/New_York:20250329T060000
DTSTAMP:20260421T075721
CREATED:20250907T204344Z
LAST-MODIFIED:20250907T204344Z
UID:8309-1743228000-1743228000@robertajazz.com
SUMMARY:Victor Jones Orchestrio
DESCRIPTION:Two sets: 6pm and 7:30pmRoberta Piket – piano  \nYoshi Waki – bass  \nVictor Jones- drums
URL:https://robertajazz.com/event/victor-jones-orchestrio-4/
LOCATION:Smalls Jazz Club\, 183 West 10th Street\, New York\, NY\, US
END:VEVENT
END:VCALENDAR