BEGIN:VCALENDAR
VERSION:2.0
PRODID:-//Roberta Piket | Pianist, Organist, Composer, Vocalist, Teacher - ECPv6.15.14//NONSGML v1.0//EN
CALSCALE:GREGORIAN
METHOD:PUBLISH
X-ORIGINAL-URL:https://robertajazz.com
X-WR-CALDESC:Events for Roberta Piket | Pianist, Organist, Composer, Vocalist, Teacher
REFRESH-INTERVAL;VALUE=DURATION:PT1H
X-Robots-Tag:noindex
X-PUBLISHED-TTL:PT1H
BEGIN:VTIMEZONE
TZID:America/New_York
BEGIN:DAYLIGHT
TZOFFSETFROM:-0500
TZOFFSETTO:-0400
TZNAME:EDT
DTSTART:20230312T070000
END:DAYLIGHT
BEGIN:STANDARD
TZOFFSETFROM:-0400
TZOFFSETTO:-0500
TZNAME:EST
DTSTART:20231105T060000
END:STANDARD
BEGIN:DAYLIGHT
TZOFFSETFROM:-0500
TZOFFSETTO:-0400
TZNAME:EDT
DTSTART:20240310T070000
END:DAYLIGHT
BEGIN:STANDARD
TZOFFSETFROM:-0400
TZOFFSETTO:-0500
TZNAME:EST
DTSTART:20241103T060000
END:STANDARD
BEGIN:DAYLIGHT
TZOFFSETFROM:-0500
TZOFFSETTO:-0400
TZNAME:EDT
DTSTART:20250309T070000
END:DAYLIGHT
BEGIN:STANDARD
TZOFFSETFROM:-0400
TZOFFSETTO:-0500
TZNAME:EST
DTSTART:20251102T060000
END:STANDARD
BEGIN:DAYLIGHT
TZOFFSETFROM:-0500
TZOFFSETTO:-0400
TZNAME:EDT
DTSTART:20260308T070000
END:DAYLIGHT
BEGIN:STANDARD
TZOFFSETFROM:-0400
TZOFFSETTO:-0500
TZNAME:EST
DTSTART:20261101T060000
END:STANDARD
END:VTIMEZONE
BEGIN:VEVENT
DTSTART;TZID=America/New_York:20250425T190000
DTEND;TZID=America/New_York:20250425T190000
DTSTAMP:20260421T111221
CREATED:20250907T204328Z
LAST-MODIFIED:20250907T204328Z
UID:8304-1745607600-1745607600@robertajazz.com
SUMMARY:Roberta Piket Quintet
DESCRIPTION:Jed Levy saxophones\, flute  Pete McCann – guitar  \nRoberta Piket – piano\, compositions  \nDavid Kingsnorth- bass  \nBilly Mintz – drums
URL:https://robertajazz.com/event/roberta-piket-quintet-3/
LOCATION:Brush Culture\, 482 Cedar Lane\, Teaneck\, NJ\, 07666\, US
END:VEVENT
BEGIN:VEVENT
DTSTART;TZID=America/New_York:20250424T190000
DTEND;TZID=America/New_York:20250424T190000
DTSTAMP:20260421T111221
CREATED:20250907T204328Z
LAST-MODIFIED:20250907T204328Z
UID:8305-1745521200-1745521200@robertajazz.com
SUMMARY:John Lang Nonet
DESCRIPTION:Near the Larchmont Train Station7 to 10 pm
URL:https://robertajazz.com/event/john-lang-nonet/
LOCATION:Locals 10538\, 2128 US-1\, Larchmont\, NY\, 10538\, US
END:VEVENT
BEGIN:VEVENT
DTSTART;TZID=America/New_York:20250422T193000
DTEND;TZID=America/New_York:20250422T193000
DTSTAMP:20260421T111221
CREATED:20250907T204328Z
LAST-MODIFIED:20250907T204328Z
UID:8306-1745350200-1745350200@robertajazz.com
SUMMARY:Roberta Piket Quintet
DESCRIPTION:2 Sets starting at 7:30pm\n Roberta Piket – piano\, compositions  \nLance Bryant – saxophones\, bass clarinet\, flute  \nPete McCann- guitar  \nJohn Hebert – bass  \nBilly Mintz – drums
URL:https://robertajazz.com/event/roberta-piket-quintet-4/
LOCATION:Smalls Jazz Club\, 183 West 10th Street\, New York\, NY\, US
END:VEVENT
BEGIN:VEVENT
DTSTART;TZID=America/New_York:20250418T190000
DTEND;TZID=America/New_York:20250418T190000
DTSTAMP:20260421T111221
CREATED:20250907T204329Z
LAST-MODIFIED:20250907T204329Z
UID:8307-1745002800-1745002800@robertajazz.com
SUMMARY:Tommy Morimoto Organ Quartet
DESCRIPTION:Tommy Morimoto – tenor saxophone Roberta Piket – organ \nEd Cherry – guitar \nTommy Campbell – drums
URL:https://robertajazz.com/event/tommy-morimoto-organ-quartet-2/
LOCATION:Hamilton’s Bar & Kitchen\, 3570 Broadway\, Harlem\, New York\, NY\, 10031\, US
END:VEVENT
BEGIN:VEVENT
DTSTART;TZID=America/New_York:20250411T200000
DTEND;TZID=America/New_York:20250411T200000
DTSTAMP:20260421T111221
CREATED:20250907T204344Z
LAST-MODIFIED:20250907T204344Z
UID:8308-1744401600-1744401600@robertajazz.com
SUMMARY:Rob Middleton Organ Quartet
DESCRIPTION:
URL:https://robertajazz.com/event/rob-middleton-organ-quartet/
LOCATION:Rock n’ Joes\, Caldwell\, NJ\, US
END:VEVENT
BEGIN:VEVENT
DTSTART;TZID=America/New_York:20250329T060000
DTEND;TZID=America/New_York:20250329T060000
DTSTAMP:20260421T111221
CREATED:20250907T204344Z
LAST-MODIFIED:20250907T204344Z
UID:8309-1743228000-1743228000@robertajazz.com
SUMMARY:Victor Jones Orchestrio
DESCRIPTION:Two sets: 6pm and 7:30pmRoberta Piket – piano  \nYoshi Waki – bass  \nVictor Jones- drums
URL:https://robertajazz.com/event/victor-jones-orchestrio-4/
LOCATION:Smalls Jazz Club\, 183 West 10th Street\, New York\, NY\, US
END:VEVENT
BEGIN:VEVENT
DTSTART;TZID=America/New_York:20250328T060000
DTEND;TZID=America/New_York:20250328T060000
DTSTAMP:20260421T111221
CREATED:20250907T204344Z
LAST-MODIFIED:20250907T204344Z
UID:8310-1743141600-1743141600@robertajazz.com
SUMMARY:Victor Jones Orchestrio
DESCRIPTION:Two sets: 6pm and 7:30pmRoberta Piket – piano  \nBoris Kozlov – bass  \nVictor Jones- drums
URL:https://robertajazz.com/event/victor-jones-orchestrio-5/
LOCATION:Smalls Jazz Club\, 183 West 10th Street\, New York\, NY\, US
END:VEVENT
BEGIN:VEVENT
DTSTART;TZID=America/New_York:20250320T193000
DTEND;TZID=America/New_York:20250320T193000
DTSTAMP:20260421T111221
CREATED:20250907T204344Z
LAST-MODIFIED:20250907T204344Z
UID:8311-1742499000-1742499000@robertajazz.com
SUMMARY:Mike Rabinowitz Group
DESCRIPTION:Mike Rabinowitz – bassoon  \nGreg Wall – tenor saxophone  \nRoberta Piket – piano   \nRich Zurkowski – bass   \nJason Tieman – drums
URL:https://robertajazz.com/event/mike-rabinowitz-group-2/
LOCATION:Smalls Jazz Club\, 183 West 10th Street\, New York\, NY\, US
END:VEVENT
BEGIN:VEVENT
DTSTART;TZID=America/New_York:20250315T060000
DTEND;TZID=America/New_York:20250315T060000
DTSTAMP:20260421T111221
CREATED:20250907T204344Z
LAST-MODIFIED:20250907T204344Z
UID:8312-1742018400-1742018400@robertajazz.com
SUMMARY:Andrea Wolper Trio
DESCRIPTION:Andrea Wolper – vocals  Roberta Piket – piano  \nKen Filiano – bass   \n6pm to 8pm
URL:https://robertajazz.com/event/andrea-wolper-trio/
LOCATION:Bean Runner Cafe\, Peekskill\, NY\, US
END:VEVENT
BEGIN:VEVENT
DTSTART;TZID=America/New_York:20250225T213000
DTEND;TZID=America/New_York:20250225T213000
DTSTAMP:20260421T111221
CREATED:20250907T204351Z
LAST-MODIFIED:20250907T204351Z
UID:8313-1740519000-1740519000@robertajazz.com
SUMMARY:Roberta Piket Trio
DESCRIPTION:Roberta Piket Trio \n Masa Kamaguchi- bass  \nBilly Mintz – drums
URL:https://robertajazz.com/event/roberta-piket-trio-6/
LOCATION:Jimmy Glass Jazz Bar\, c/ Baja\, 28\, Valencia\, 46003\, ES
END:VEVENT
BEGIN:VEVENT
DTSTART;TZID=America/New_York:20250222T220000
DTEND;TZID=America/New_York:20250222T220000
DTSTAMP:20260421T111221
CREATED:20250907T204351Z
LAST-MODIFIED:20250907T204351Z
UID:8314-1740261600-1740261600@robertajazz.com
SUMMARY:Roberta Piket Trio
DESCRIPTION:Roberta Piket Trio  \n Roberta Piket – piano\n Masa Kamaguchi – bass  \nBilly Mintz – drums
URL:https://robertajazz.com/event/roberta-piket-trio-7/
LOCATION:Sunset Club\, Girona\, ES
END:VEVENT
BEGIN:VEVENT
DTSTART;TZID=America/New_York:20250215T200000
DTEND;TZID=America/New_York:20250215T200000
DTSTAMP:20260421T111221
CREATED:20250907T204351Z
LAST-MODIFIED:20250907T204351Z
UID:8315-1739649600-1739649600@robertajazz.com
SUMMARY:Scott Reeves' Music of Memphis Composers Project
DESCRIPTION:One set only
URL:https://robertajazz.com/event/scott-reeves-music-of-memphis-composers-project/
LOCATION:Maureen’s Jazz Cellar\, 2 N Broadway\, Nyack\, NY\, 10960\, US
END:VEVENT
BEGIN:VEVENT
DTSTART;TZID=America/New_York:20250131T193000
DTEND;TZID=America/New_York:20250131T193000
DTSTAMP:20260421T111221
CREATED:20250907T204351Z
LAST-MODIFIED:20250907T204351Z
UID:8316-1738351800-1738351800@robertajazz.com
SUMMARY:Scott Reeves' Music of Memphis Composers Project
DESCRIPTION:Sets at 7:30 and 9:30
URL:https://robertajazz.com/event/scott-reeves-music-of-memphis-composers-project-2/
LOCATION:Cafe Ornithology\, 1037 Broadway\, Brooklyn\, NY\, US
END:VEVENT
BEGIN:VEVENT
DTSTART;TZID=America/New_York:20250118T190000
DTEND;TZID=America/New_York:20250118T190000
DTSTAMP:20260421T111221
CREATED:20250907T204351Z
LAST-MODIFIED:20250907T204351Z
UID:8317-1737226800-1737226800@robertajazz.com
SUMMARY:Pete McCann Quartet
DESCRIPTION:Pete McCann Quartet \n  \nPete McCann – guitar   \nRoberta Piket – piano   \nMatt Pavolka – bass  \nJeff Davis – drums
URL:https://robertajazz.com/event/pete-mccann-quartet-2/
LOCATION:Brush Culture\, 482 Cedar Lane\, Teaneck\, NJ\, 07666\, US
END:VEVENT
BEGIN:VEVENT
DTSTART;TZID=America/New_York:20250117T200000
DTEND;TZID=America/New_York:20250117T200000
DTSTAMP:20260421T111221
CREATED:20250907T204401Z
LAST-MODIFIED:20250907T204401Z
UID:8318-1737144000-1737144000@robertajazz.com
SUMMARY:Victor Jones Orchestrio
DESCRIPTION:
URL:https://robertajazz.com/event/victor-jones-orchestrio-6/
LOCATION:Maureen’s Jazz Cellar\, 2 N Broadway\, Nyack\, NY\, 10960\, US
END:VEVENT
BEGIN:VEVENT
DTSTART;TZID=America/New_York:20250116T193000
DTEND;TZID=America/New_York:20250116T193000
DTSTAMP:20260421T111221
CREATED:20250907T204401Z
LAST-MODIFIED:20250907T204401Z
UID:8319-1737055800-1737055800@robertajazz.com
SUMMARY:Roberta Piket Trio
DESCRIPTION:Roberta Piket – pianoAndy McKee – bass \nBilly Mintz – drums
URL:https://robertajazz.com/event/roberta-piket-trio-8/
LOCATION:The Django\, 2 Avenue of The Americas - The Roxy Hotel\, Cellar Level\, New York\, NY\, 10013\, US
END:VEVENT
BEGIN:VEVENT
DTSTART;TZID=America/New_York:20250115T193000
DTEND;TZID=America/New_York:20250115T193000
DTSTAMP:20260421T111221
CREATED:20250907T204401Z
LAST-MODIFIED:20250907T204401Z
UID:8320-1736969400-1736969400@robertajazz.com
SUMMARY:Jade Synstelien and the Fat Cat Big Band
DESCRIPTION:
URL:https://robertajazz.com/event/jade-synstelien-and-the-fat-cat-big-band/
LOCATION:Cafe Ornithology\, 1037 Broadway\, Brooklyn\, NY\, US
END:VEVENT
BEGIN:VEVENT
DTSTART;TZID=America/New_York:20241221T200000
DTEND;TZID=America/New_York:20241221T200000
DTSTAMP:20260421T111221
CREATED:20250907T204401Z
LAST-MODIFIED:20250907T204401Z
UID:8321-1734811200-1734811200@robertajazz.com
SUMMARY:Billy Mintz Sextet
DESCRIPTION:Noah Bless – trombone  \nEddie Allen – trumpet  \nAdam kolker – tenor saxophone  \nJohn Hebert – bass   \nRoberta Piket – piano  \nBilly Mintz – drums and compositions
URL:https://robertajazz.com/event/billy-mintz-sextet/
LOCATION:Bar Bayeux\, 1066 Nostrand Avenue\, Brooklyn\, NY\, 11225\, US
END:VEVENT
BEGIN:VEVENT
DTSTART;TZID=America/New_York:20241221T180000
DTEND;TZID=America/New_York:20241221T180000
DTSTAMP:20260421T111221
CREATED:20250907T204401Z
LAST-MODIFIED:20250907T204401Z
UID:8322-1734804000-1734804000@robertajazz.com
SUMMARY:Duo with Daniel Carter
DESCRIPTION:Daniel Carter – woodwinds  \nRoberta Piket – piano
URL:https://robertajazz.com/event/duo-with-daniel-carter/
LOCATION:Bar Bayeux\, 1066 Nostrand Avenue\, Brooklyn\, NY\, 11225\, US
END:VEVENT
BEGIN:VEVENT
DTSTART;TZID=America/New_York:20241214T210000
DTEND;TZID=America/New_York:20241214T210000
DTSTAMP:20260421T111221
CREATED:20250907T204406Z
LAST-MODIFIED:20250907T204406Z
UID:8323-1734210000-1734210000@robertajazz.com
SUMMARY:Billy Mintz Sextet
DESCRIPTION:Noah Bless – trombone  \nEddie Allen – trumpet  \nAdam kolker – tenor saxophone  \nJohn Hebert – bass   \nRoberta Piket – piano  \nBilly Mintz – drums and compositions
URL:https://robertajazz.com/event/billy-mintz-sextet-2/
LOCATION:Ornithology\, 6 Suydam St.\, Brooklyn\, NY\, US
END:VEVENT
BEGIN:VEVENT
DTSTART;TZID=America/New_York:20241214T150000
DTEND;TZID=America/New_York:20241214T150000
DTSTAMP:20260421T111221
CREATED:20250907T204406Z
LAST-MODIFIED:20250907T204406Z
UID:8324-1734188400-1734188400@robertajazz.com
SUMMARY:A Charlie Brown Christmas with the John Lang Trio
DESCRIPTION:
URL:https://robertajazz.com/event/a-charlie-brown-christmas-with-the-john-lang-trio/
LOCATION:Irvington Public Library\, 12 South Astor Street\, Irvington\, NY\, 10533\, US
END:VEVENT
BEGIN:VEVENT
DTSTART;TZID=America/New_York:20241213T190000
DTEND;TZID=America/New_York:20241213T190000
DTSTAMP:20260421T111221
CREATED:20250907T204406Z
LAST-MODIFIED:20250907T204406Z
UID:8325-1734116400-1734116400@robertajazz.com
SUMMARY:Victor Jones Trio
DESCRIPTION:
URL:https://robertajazz.com/event/victor-jones-trio-2/
LOCATION:Brush Culture\, 482 Cedar Lane\, Teaneck\, NJ\, 07666\, US
END:VEVENT
BEGIN:VEVENT
DTSTART;TZID=America/New_York:20241209T200000
DTEND;TZID=America/New_York:20241209T200000
DTSTAMP:20260421T111221
CREATED:20250907T204406Z
LAST-MODIFIED:20250907T204406Z
UID:8326-1733774400-1733774400@robertajazz.com
SUMMARY:Jam Session w/ the John Richmond Quartet
DESCRIPTION:
URL:https://robertajazz.com/event/jam-session-w-the-john-richmond-quartet/
LOCATION:Turning Point Cafe\, 468 Piermont Ave.\, Piermont\, NY\, US
END:VEVENT
BEGIN:VEVENT
DTSTART;TZID=America/New_York:20241207T210000
DTEND;TZID=America/New_York:20241207T210000
DTSTAMP:20260421T111221
CREATED:20250907T204406Z
LAST-MODIFIED:20250907T204406Z
UID:8327-1733605200-1733605200@robertajazz.com
SUMMARY:The Waldron Ricks Group
DESCRIPTION:Waldron Ricks – trumpet   \nTommy Moromito – tenor saxophone   \nRoberta Piket – piano  \nSanti Debriano – bass  \nTommy Campbell – drums
URL:https://robertajazz.com/event/the-waldron-ricks-group-2/
LOCATION:Smalls Jazz Club\, 183 West 10th Street\, New York\, NY\, US
END:VEVENT
BEGIN:VEVENT
DTSTART;TZID=America/New_York:20241122T070000
DTEND;TZID=America/New_York:20241122T070000
DTSTAMP:20260421T111221
CREATED:20250907T204418Z
LAST-MODIFIED:20250907T204418Z
UID:8328-1732258800-1732258800@robertajazz.com
SUMMARY:Musique Libre Femmes
DESCRIPTION:Cheryl Pyle -c flute / alto flute \nAyumi Ishito-tenor sax \nRoberta Piket -piano  \nInstrumental Underground Series
URL:https://robertajazz.com/event/musique-libre-femmes/
LOCATION:iBeam Brooklyn\, 168 7th Street\, Brooklyn\, NY\, 11215\, US
END:VEVENT
BEGIN:VEVENT
DTSTART;TZID=America/New_York:20241102T193000
DTEND;TZID=America/New_York:20241102T193000
DTSTAMP:20260421T111221
CREATED:20250907T204418Z
LAST-MODIFIED:20250907T204418Z
UID:8329-1730575800-1730575800@robertajazz.com
SUMMARY:Roberta Piket Trio
DESCRIPTION:Roberta Piket Trio
URL:https://robertajazz.com/event/roberta-piket-trio-9/
LOCATION:Mezzrow\, 163 W. 10th St.\, New York\, New York\, US
END:VEVENT
BEGIN:VEVENT
DTSTART;TZID=America/New_York:20241101T193000
DTEND;TZID=America/New_York:20241101T193000
DTSTAMP:20260421T111221
CREATED:20250907T204418Z
LAST-MODIFIED:20250907T204418Z
UID:8330-1730489400-1730489400@robertajazz.com
SUMMARY:Roberta Piket Trio
DESCRIPTION:Roberta Piket Trio
URL:https://robertajazz.com/event/roberta-piket-trio-10/
LOCATION:Mezzrow\, 163 W. 10th St.\, New York\, New York\, US
END:VEVENT
BEGIN:VEVENT
DTSTART;TZID=America/New_York:20241020T183000
DTEND;TZID=America/New_York:20241020T183000
DTSTAMP:20260421T111221
CREATED:20250907T204418Z
LAST-MODIFIED:20250907T204418Z
UID:8331-1729449000-1729449000@robertajazz.com
SUMMARY:Roberta Piket Quartet
DESCRIPTION:Pete McCann – guitar  \nRoberta Piket – piano  \nRon McClure – bass  \nBilly Mintz – drums
URL:https://robertajazz.com/event/roberta-piket-quartet-2/
LOCATION:The Django\, 2 Avenue of The Americas - The Roxy Hotel\, Cellar Level\, New York\, NY\, 10013\, US
END:VEVENT
BEGIN:VEVENT
DTSTART;TZID=America/New_York:20241019T180000
DTEND;TZID=America/New_York:20241019T180000
DTSTAMP:20260421T111221
CREATED:20250907T204418Z
LAST-MODIFIED:20250907T204418Z
UID:8332-1729360800-1729360800@robertajazz.com
SUMMARY:Duo with Adam Kolker
DESCRIPTION:
URL:https://robertajazz.com/event/duo-with-adam-kolker/
LOCATION:Bar Bayeux\, 1066 Nostrand Avenue\, Brooklyn\, NY\, 11225\, US
END:VEVENT
BEGIN:VEVENT
DTSTART;TZID=America/New_York:20241017T200000
DTEND;TZID=America/New_York:20241017T200000
DTSTAMP:20260421T111221
CREATED:20250907T204435Z
LAST-MODIFIED:20250907T204435Z
UID:8333-1729195200-1729195200@robertajazz.com
SUMMARY:John Lang Nonet
DESCRIPTION:
URL:https://robertajazz.com/event/john-lang-nonet-2/
LOCATION:Sugar Mouse\, 47 Third Ave\, New York\, NY\, 10003\, US
END:VEVENT
END:VCALENDAR