BEGIN:VCALENDAR
VERSION:2.0
PRODID:-//Roberta Piket | Pianist, Organist, Composer, Vocalist, Teacher - ECPv6.15.14//NONSGML v1.0//EN
CALSCALE:GREGORIAN
METHOD:PUBLISH
X-WR-CALNAME:Roberta Piket | Pianist, Organist, Composer, Vocalist, Teacher
X-ORIGINAL-URL:https://robertajazz.com
X-WR-CALDESC:Events for Roberta Piket | Pianist, Organist, Composer, Vocalist, Teacher
REFRESH-INTERVAL;VALUE=DURATION:PT1H
X-Robots-Tag:noindex
X-PUBLISHED-TTL:PT1H
BEGIN:VTIMEZONE
TZID:America/New_York
BEGIN:DAYLIGHT
TZOFFSETFROM:-0500
TZOFFSETTO:-0400
TZNAME:EDT
DTSTART:20230312T070000
END:DAYLIGHT
BEGIN:STANDARD
TZOFFSETFROM:-0400
TZOFFSETTO:-0500
TZNAME:EST
DTSTART:20231105T060000
END:STANDARD
BEGIN:DAYLIGHT
TZOFFSETFROM:-0500
TZOFFSETTO:-0400
TZNAME:EDT
DTSTART:20240310T070000
END:DAYLIGHT
BEGIN:STANDARD
TZOFFSETFROM:-0400
TZOFFSETTO:-0500
TZNAME:EST
DTSTART:20241103T060000
END:STANDARD
BEGIN:DAYLIGHT
TZOFFSETFROM:-0500
TZOFFSETTO:-0400
TZNAME:EDT
DTSTART:20250309T070000
END:DAYLIGHT
BEGIN:STANDARD
TZOFFSETFROM:-0400
TZOFFSETTO:-0500
TZNAME:EST
DTSTART:20251102T060000
END:STANDARD
END:VTIMEZONE
BEGIN:VEVENT
DTSTART;TZID=America/New_York:20241122T070000
DTEND;TZID=America/New_York:20241122T070000
DTSTAMP:20260421T143550
CREATED:20250907T204418Z
LAST-MODIFIED:20250907T204418Z
UID:8328-1732258800-1732258800@robertajazz.com
SUMMARY:Musique Libre Femmes
DESCRIPTION:Cheryl Pyle -c flute / alto flute \nAyumi Ishito-tenor sax \nRoberta Piket -piano  \nInstrumental Underground Series
URL:https://robertajazz.com/event/musique-libre-femmes/
LOCATION:iBeam Brooklyn\, 168 7th Street\, Brooklyn\, NY\, 11215\, US
END:VEVENT
BEGIN:VEVENT
DTSTART;TZID=America/New_York:20241102T193000
DTEND;TZID=America/New_York:20241102T193000
DTSTAMP:20260421T143550
CREATED:20250907T204418Z
LAST-MODIFIED:20250907T204418Z
UID:8329-1730575800-1730575800@robertajazz.com
SUMMARY:Roberta Piket Trio
DESCRIPTION:Roberta Piket Trio
URL:https://robertajazz.com/event/roberta-piket-trio-9/
LOCATION:Mezzrow\, 163 W. 10th St.\, New York\, New York\, US
END:VEVENT
BEGIN:VEVENT
DTSTART;TZID=America/New_York:20241101T193000
DTEND;TZID=America/New_York:20241101T193000
DTSTAMP:20260421T143550
CREATED:20250907T204418Z
LAST-MODIFIED:20250907T204418Z
UID:8330-1730489400-1730489400@robertajazz.com
SUMMARY:Roberta Piket Trio
DESCRIPTION:Roberta Piket Trio
URL:https://robertajazz.com/event/roberta-piket-trio-10/
LOCATION:Mezzrow\, 163 W. 10th St.\, New York\, New York\, US
END:VEVENT
BEGIN:VEVENT
DTSTART;TZID=America/New_York:20241020T183000
DTEND;TZID=America/New_York:20241020T183000
DTSTAMP:20260421T143550
CREATED:20250907T204418Z
LAST-MODIFIED:20250907T204418Z
UID:8331-1729449000-1729449000@robertajazz.com
SUMMARY:Roberta Piket Quartet
DESCRIPTION:Pete McCann – guitar  \nRoberta Piket – piano  \nRon McClure – bass  \nBilly Mintz – drums
URL:https://robertajazz.com/event/roberta-piket-quartet-2/
LOCATION:The Django\, 2 Avenue of The Americas - The Roxy Hotel\, Cellar Level\, New York\, NY\, 10013\, US
END:VEVENT
BEGIN:VEVENT
DTSTART;TZID=America/New_York:20241019T180000
DTEND;TZID=America/New_York:20241019T180000
DTSTAMP:20260421T143550
CREATED:20250907T204418Z
LAST-MODIFIED:20250907T204418Z
UID:8332-1729360800-1729360800@robertajazz.com
SUMMARY:Duo with Adam Kolker
DESCRIPTION:
URL:https://robertajazz.com/event/duo-with-adam-kolker/
LOCATION:Bar Bayeux\, 1066 Nostrand Avenue\, Brooklyn\, NY\, 11225\, US
END:VEVENT
BEGIN:VEVENT
DTSTART;TZID=America/New_York:20241017T200000
DTEND;TZID=America/New_York:20241017T200000
DTSTAMP:20260421T143550
CREATED:20250907T204435Z
LAST-MODIFIED:20250907T204435Z
UID:8333-1729195200-1729195200@robertajazz.com
SUMMARY:John Lang Nonet
DESCRIPTION:
URL:https://robertajazz.com/event/john-lang-nonet-2/
LOCATION:Sugar Mouse\, 47 Third Ave\, New York\, NY\, 10003\, US
END:VEVENT
BEGIN:VEVENT
DTSTART;TZID=America/New_York:20241007T130000
DTEND;TZID=America/New_York:20241007T130000
DTSTAMP:20260421T143550
CREATED:20250907T204435Z
LAST-MODIFIED:20250907T204435Z
UID:8334-1728306000-1728306000@robertajazz.com
SUMMARY:Lance Bryant and SHOUT!
DESCRIPTION:
URL:https://robertajazz.com/event/lance-bryant-and-shout-2/
LOCATION:St. Paul’s Chapel\, 209 Broadway\, New York\, NY\, US
END:VEVENT
BEGIN:VEVENT
DTSTART;TZID=America/New_York:20240930T200000
DTEND;TZID=America/New_York:20240930T200000
DTSTAMP:20260421T143550
CREATED:20250907T204435Z
LAST-MODIFIED:20250907T204435Z
UID:8335-1727726400-1727726400@robertajazz.com
SUMMARY:Jam Session w/ the John Richmond Quartet
DESCRIPTION:
URL:https://robertajazz.com/event/jam-session-w-the-john-richmond-quartet-2/
LOCATION:Turning Point Cafe\, 468 Piermont Ave.\, Piermont\, NY\, US
END:VEVENT
BEGIN:VEVENT
DTSTART;TZID=America/New_York:20240929T210000
DTEND;TZID=America/New_York:20240929T210000
DTSTAMP:20260421T143550
CREATED:20250907T204435Z
LAST-MODIFIED:20250907T204435Z
UID:8336-1727643600-1727643600@robertajazz.com
SUMMARY:John Lang Nonet
DESCRIPTION:
URL:https://robertajazz.com/event/john-lang-nonet-3/
LOCATION:Ornithology\, 6 Suydam St.\, Brooklyn\, NY\, US
END:VEVENT
BEGIN:VEVENT
DTSTART;TZID=America/New_York:20240920T210000
DTEND;TZID=America/New_York:20240920T210000
DTSTAMP:20260421T143550
CREATED:20250907T204436Z
LAST-MODIFIED:20250907T204436Z
UID:8337-1726866000-1726866000@robertajazz.com
SUMMARY:Spigame Big Band Directed by Victor Jones
DESCRIPTION:
URL:https://robertajazz.com/event/spigame-big-band-directed-by-victor-jones-2/
LOCATION:Cutting Room\, 44 E. 32nd St.\, New York\, NY\, US
END:VEVENT
BEGIN:VEVENT
DTSTART;TZID=America/New_York:20240919T190000
DTEND;TZID=America/New_York:20240919T190000
DTSTAMP:20260421T143550
CREATED:20250907T204445Z
LAST-MODIFIED:20250907T204445Z
UID:8338-1726772400-1726772400@robertajazz.com
SUMMARY:House Concert in Teaneck
DESCRIPTION:7pm Roberta Piket – Solo Piano \n7:30pm   Triple Dip + 1 \nSammy Blaster – tbn  \nRuss Lossing – piano  \nBilly Mintz – drums  \nSpecial guest: Masito K. Gucci – bass  \n8:30pm Complimentary food and drinks  \nTrombonist Sammy Blaster joins forces with two prestigious representatives of the American school of jazz and improvisation\, pianist Russ Lossing and drummer Billy Mintz. Together they explore the register of the voice\, common to all three instruments\, in an assertive “chamber” context and from an entirely original repertoire. With special guest: bassist Masito K. Gucci.  \nEmail houseconcert@thirteenthnoterecords.com for our address.  \n \nSuggested Donation: $20 or pay what you can afford
URL:https://robertajazz.com/event/house-concert-in-teaneck-2/
LOCATION:Our place: Message Roberta for more details\, Teaneck\, NJ\, US
END:VEVENT
BEGIN:VEVENT
DTSTART;TZID=America/New_York:20240914T190000
DTEND;TZID=America/New_York:20240914T190000
DTSTAMP:20260421T143550
CREATED:20250907T204445Z
LAST-MODIFIED:20250907T204445Z
UID:8339-1726340400-1726340400@robertajazz.com
SUMMARY:Mike Rabinowitz Group
DESCRIPTION:Mike Rabinowitz – bassoon  \nRoberta Pikef – piano  \nJoe Fonda – bass  \nBilly Mintz – drums
URL:https://robertajazz.com/event/mike-rabinowitz-group-3/
LOCATION:Brush Culture\, 482 Cedar Lane\, Teaneck\, NJ\, 07666\, US
END:VEVENT
BEGIN:VEVENT
DTSTART;TZID=America/New_York:20240817T130000
DTEND;TZID=America/New_York:20240817T130000
DTSTAMP:20260421T143550
CREATED:20250907T204445Z
LAST-MODIFIED:20250907T204445Z
UID:8340-1723899600-1723899600@robertajazz.com
SUMMARY:Fundraiser Concert for Richie Beirach
DESCRIPTION:Richie Beirach is a beloved friend\, colleague\, mentor and musician who has touched countless lives with his music. Richie is struggling with serious health issues that have rendered him unable to perform and led to a severe financial crisis.  \n This Benefit Concert is to provide Richie with the financial support he needs. Your contributions\nwill help cover his medical bills\, daily care expenses\, and essential living costs\, allowing him to focus on recovery.  \nScheduled to appear:\n \n* Jamie Baum * Gregor Hübner * ELEW *\n* Ron McClure * Billy Mintz *\n* Adam Nussbaum * Julia Penn *\n* Roberta Piket * Mike Richmond *\n* Rachel Z * \nCan’t make the concert but want to contribute to the\nGoFundMe campaign for Richie:  https://gofund.me/21576470
URL:https://robertajazz.com/event/fundraiser-concert-for-richie-beirach/
LOCATION:Cafe Ornithology\, 1037 Broadway\, Brooklyn\, NY\, US
END:VEVENT
BEGIN:VEVENT
DTSTART;TZID=America/New_York:20240810T180000
DTEND;TZID=America/New_York:20240810T180000
DTSTAMP:20260421T143550
CREATED:20250907T204445Z
LAST-MODIFIED:20250907T204445Z
UID:8341-1723312800-1723312800@robertajazz.com
SUMMARY:Billy Mintz Sextet
DESCRIPTION:Billy Mintz – drums and compositions  \nAdam Kolker – reeds  \nEddie Allen – trumpet  \nNoah Bless – trombone  \nRoberta Piket – piano  \nDon Falzone – bass
URL:https://robertajazz.com/event/billy-mintz-sextet-3/
LOCATION:Smalls Jazz Club\, 183 West 10th Street\, New York\, NY\, US
END:VEVENT
BEGIN:VEVENT
DTSTART;TZID=America/New_York:20240809T180000
DTEND;TZID=America/New_York:20240809T180000
DTSTAMP:20260421T143550
CREATED:20250907T204445Z
LAST-MODIFIED:20250907T204445Z
UID:8342-1723226400-1723226400@robertajazz.com
SUMMARY:Billy Mintz Sextet
DESCRIPTION:Billy Mintz – drums and compositions  \nAdam Kolker – reeds  \nEddie Allen – trumpet  \nNoah Bless – trombone  \nRoberta Piket – piano  \nDon Falzone – bass
URL:https://robertajazz.com/event/billy-mintz-sextet-4/
LOCATION:Smalls Jazz Club\, 183 West 10th Street\, New York\, NY\, US
END:VEVENT
BEGIN:VEVENT
DTSTART;TZID=America/New_York:20240808T210000
DTEND;TZID=America/New_York:20240808T210000
DTSTAMP:20260421T143550
CREATED:20250907T204452Z
LAST-MODIFIED:20250907T204452Z
UID:8343-1723150800-1723150800@robertajazz.com
SUMMARY:Billy Mintz Sextet
DESCRIPTION:Billy Mintz – drums and compositions  \nAdam Kolker – reeds  \nEddie Allen – trumpet  \nNoah Bless – trombone  \nRoberta Piket – piano  \nDon Falzone – bass
URL:https://robertajazz.com/event/billy-mintz-sextet-5/
LOCATION:Ornithology\, 6 Suydam St.\, Brooklyn\, NY\, US
END:VEVENT
BEGIN:VEVENT
DTSTART;TZID=America/New_York:20240727T210000
DTEND;TZID=America/New_York:20240727T210000
DTSTAMP:20260421T143550
CREATED:20250907T204452Z
LAST-MODIFIED:20250907T204452Z
UID:8344-1722114000-1722114000@robertajazz.com
SUMMARY:Virginia Mayhew Group
DESCRIPTION:Waldron Ricks\, Noah Bless\, Lisa Parrott\, Virginia Mayhew    \nHarvie S\, Roberta Piket\, Billy Mintz
URL:https://robertajazz.com/event/virginia-mayhew-group/
LOCATION:Smalls Jazz Club\, 183 West 10th Street\, New York\, NY\, US
END:VEVENT
BEGIN:VEVENT
DTSTART;TZID=America/New_York:20240726T210000
DTEND;TZID=America/New_York:20240726T210000
DTSTAMP:20260421T143550
CREATED:20250907T204452Z
LAST-MODIFIED:20250907T204452Z
UID:8345-1722027600-1722027600@robertajazz.com
SUMMARY:Virginia Mayhew Group
DESCRIPTION:Waldron Ricks\, Noah Bless\, Lisa Parrott\, Virginia Mayhew  \nHarvie S\, Roberta Piket\, Billy Mintz
URL:https://robertajazz.com/event/virginia-mayhew-group-2/
LOCATION:Smalls Jazz Club\, 183 West 10th Street\, New York\, NY\, US
END:VEVENT
BEGIN:VEVENT
DTSTART;TZID=America/New_York:20240725T190000
DTEND;TZID=America/New_York:20240725T190000
DTSTAMP:20260421T143550
CREATED:20250907T204452Z
LAST-MODIFIED:20250907T204452Z
UID:8346-1721934000-1721934000@robertajazz.com
SUMMARY:Lance Bryant Quartet
DESCRIPTION:
URL:https://robertajazz.com/event/lance-bryant-quartet-2/
LOCATION:Tavern on George\, 361 George St.\, New Brunswick\, NJ\, 08901\, US
END:VEVENT
BEGIN:VEVENT
DTSTART;TZID=America/New_York:20240724T200000
DTEND;TZID=America/New_York:20240724T200000
DTSTAMP:20260421T143550
CREATED:20250907T204452Z
LAST-MODIFIED:20250907T204452Z
UID:8347-1721851200-1721851200@robertajazz.com
SUMMARY:Peter Brainin and Friends
DESCRIPTION:Peter Brainin – saxophone and flute  Roberta Piket – piano  \nMikey Migliore –  bass  Sam Sarkisyan – drums
URL:https://robertajazz.com/event/peter-brainin-and-friends/
LOCATION:Room 623\, 271 West 119th Street\, New York\, NY\, 10026\, US
END:VEVENT
BEGIN:VEVENT
DTSTART;TZID=America/New_York:20240723T173000
DTEND;TZID=America/New_York:20240723T173000
DTSTAMP:20260421T143550
CREATED:20250907T204502Z
LAST-MODIFIED:20250907T204502Z
UID:8348-1721755800-1721755800@robertajazz.com
SUMMARY:Organ Trio with Jerry Weldon and Tommy Campbell
DESCRIPTION:The regular bi-monthly Tuesday of the Victor Jones Orchestrio is pre-empted this week because Victor  is out of town. Instead this spacious pub will feature:\nJerry Weldon – tenor saxophone \nRoberta Piket – clonewheel organ \nTommy Campbell – drums  \nNo cover. Music from 5:30pm to 8:30pm
URL:https://robertajazz.com/event/organ-trio-with-jerry-weldon-and-tommy-campbell/
LOCATION:Chelsea Bell\, 316 Eighth Ave\, New York\, NY\, US
END:VEVENT
BEGIN:VEVENT
DTSTART;TZID=America/New_York:20240721T120000
DTEND;TZID=America/New_York:20240721T120000
DTSTAMP:20260421T143550
CREATED:20250907T204502Z
LAST-MODIFIED:20250907T204502Z
UID:8349-1721563200-1721563200@robertajazz.com
SUMMARY:Gene Ghee Organ Trio
DESCRIPTION:
URL:https://robertajazz.com/event/gene-ghee-organ-trio-2/
LOCATION:Harlem Tavern\, 2153 Frederick Douglass Blvd\, Harlem\, NY\, US
END:VEVENT
BEGIN:VEVENT
DTSTART;TZID=America/New_York:20240710T193000
DTEND;TZID=America/New_York:20240710T193000
DTSTAMP:20260421T143550
CREATED:20250907T204502Z
LAST-MODIFIED:20250907T204502Z
UID:8350-1720639800-1720639800@robertajazz.com
SUMMARY:Roberta Piket Trio
DESCRIPTION:Roberta Piket Trio \n Roberta Piket – piano  \nUgonna Okegwo – bass  \nBilly Mintz – drums
URL:https://robertajazz.com/event/roberta-piket-trio-11/
LOCATION:Cafe Ornithology\, 1037 Broadway\, Brooklyn\, NY\, US
END:VEVENT
BEGIN:VEVENT
DTSTART;TZID=America/New_York:20240629T190000
DTEND;TZID=America/New_York:20240629T190000
DTSTAMP:20260421T143550
CREATED:20250907T204502Z
LAST-MODIFIED:20250907T204502Z
UID:8351-1719687600-1719687600@robertajazz.com
SUMMARY:Rufus Reid & Expedition (Quintet)
DESCRIPTION:Rufus Reid – bass  \nMark Gross – saxophones  \nFreddie Hendrix – trumpet  \nRoberta Piket – piano  \nChris Beck – drums
URL:https://robertajazz.com/event/rufus-reid-expedition-quintet/
LOCATION:Brush Culture\, 482 Cedar Lane\, Teaneck\, NJ\, 07666\, US
END:VEVENT
BEGIN:VEVENT
DTSTART;TZID=America/New_York:20240628T190000
DTEND;TZID=America/New_York:20240628T190000
DTSTAMP:20260421T143550
CREATED:20250907T204503Z
LAST-MODIFIED:20250907T204503Z
UID:8352-1719601200-1719601200@robertajazz.com
SUMMARY:Rufus Reid Trio
DESCRIPTION:Rufus Reid – bass  \nRoberta Piket – piano  \nChris Beck – drums
URL:https://robertajazz.com/event/rufus-reid-trio/
LOCATION:Brush Culture\, 482 Cedar Lane\, Teaneck\, NJ\, 07666\, US
END:VEVENT
BEGIN:VEVENT
DTSTART;TZID=America/New_York:20240626T200000
DTEND;TZID=America/New_York:20240626T200000
DTSTAMP:20260421T143550
CREATED:20250907T204509Z
LAST-MODIFIED:20250907T204509Z
UID:8353-1719432000-1719432000@robertajazz.com
SUMMARY:Peter Brainin and Friends
DESCRIPTION:Peter Brainin – saxophones  Roberta Piket – piano  \nKoji Cassetta – bass   \nPete Van Nostrand – drums
URL:https://robertajazz.com/event/peter-brainin-and-friends-2/
LOCATION:Room 623\, 271 West 119th Street\, New York\, NY\, 10026\, US
END:VEVENT
BEGIN:VEVENT
DTSTART;TZID=America/New_York:20240625T170000
DTEND;TZID=America/New_York:20240625T170000
DTSTAMP:20260421T143550
CREATED:20250907T204509Z
LAST-MODIFIED:20250907T204509Z
UID:8354-1719334800-1719334800@robertajazz.com
SUMMARY:Camille Gainer Organ Trio
DESCRIPTION:Camille Gainer – drums  \nSharif Kales – trumpet  \nRoberta Piket – organ
URL:https://robertajazz.com/event/camille-gainer-organ-trio/
LOCATION:Air Train Jazz Festival\, Queens\, NY\, US
END:VEVENT
BEGIN:VEVENT
DTSTART;TZID=America/New_York:20240622T200000
DTEND;TZID=America/New_York:20240622T200000
DTSTAMP:20260421T143550
CREATED:20250907T204509Z
LAST-MODIFIED:20250907T204509Z
UID:8355-1719086400-1719086400@robertajazz.com
SUMMARY:Fundraiser for Democracy in Teaneck
DESCRIPTION:One Town\, One Vote (OTOV)\, the grassroots organization that helped change our local elections from May to November and worked to elect three of the Rise For Teaneck Candidates to the Council in 2022\, is holding a fundraiser to raise money to support candidates who stand for democracy\, transparency\, reasonable development\, and diversity in our Township Government.  The evening will include some of Teaneck’s finest entertainers\, wine\, beer\, soft drinks\, appetizers & guest speakers.   \nWith David Kingsnorth and Billy Mintz
URL:https://robertajazz.com/event/fundraiser-for-democracy-in-teaneck/
LOCATION:Ethical Culture Society\, 687 Larch Ave.\, Teaneck\, NJ\, 07666\, US
END:VEVENT
BEGIN:VEVENT
DTSTART;TZID=America/New_York:20240616T150000
DTEND;TZID=America/New_York:20240616T150000
DTSTAMP:20260421T143550
CREATED:20250907T204509Z
LAST-MODIFIED:20250907T204509Z
UID:8356-1718550000-1718550000@robertajazz.com
SUMMARY:Roberta Piket Quartet
DESCRIPTION:Roberta Piket- keyboard  Eddie Allen – trumpet \nHarvie S – bass  \nBilly Mintz – drums \nFree outdoor concert  \n sets at 3pm and 4:30pm
URL:https://robertajazz.com/event/roberta-piket-quartet-3/
LOCATION:VFW Plaza\, 548 Warburton Ave\, Hastings on Hudson\, NY\, US
END:VEVENT
BEGIN:VEVENT
DTSTART;TZID=America/New_York:20240611T173000
DTEND;TZID=America/New_York:20240611T173000
DTSTAMP:20260421T143550
CREATED:20250907T204509Z
LAST-MODIFIED:20250907T204509Z
UID:8357-1718127000-1718127000@robertajazz.com
SUMMARY:Victor Jones Orchestrio
DESCRIPTION:Victor Jones – drums\, trumpet  \nRoberta Piket – Fender Rhodes piano\, vocal  \nAlex Blake – bass  \n5:30pm – 7:30pm  \nNo Cover
URL:https://robertajazz.com/event/victor-jones-orchestrio-7/
LOCATION:Chelsea Bell\, 316 Eighth Ave\, New York\, NY\, US
END:VEVENT
END:VCALENDAR